BEGIN:VCALENDAR
VERSION:2.0
PRODID:-//Andarax Digital - ECPv6.1.3//NONSGML v1.0//EN
CALSCALE:GREGORIAN
METHOD:PUBLISH
X-WR-CALNAME:Andarax Digital
X-ORIGINAL-URL:https://andaraxdigital.es
X-WR-CALDESC:Eventos para Andarax Digital
REFRESH-INTERVAL;VALUE=DURATION:PT1H
X-Robots-Tag:noindex
X-PUBLISHED-TTL:PT1H
BEGIN:VTIMEZONE
TZID:Europe/Helsinki
BEGIN:DAYLIGHT
TZOFFSETFROM:+0200
TZOFFSETTO:+0300
TZNAME:EEST
DTSTART:20250330T010000
END:DAYLIGHT
BEGIN:STANDARD
TZOFFSETFROM:+0300
TZOFFSETTO:+0200
TZNAME:EET
DTSTART:20251026T010000
END:STANDARD
END:VTIMEZONE
BEGIN:VEVENT
DTSTART;TZID=Europe/Helsinki:20250330T113000
DTEND;TZID=Europe/Helsinki:20250330T113000
DTSTAMP:20260419T202606
CREATED:20250317T193015Z
LAST-MODIFIED:20250317T193015Z
UID:4313-1743334200-1743334200@andaraxdigital.es
SUMMARY:XVI Certamen de Marchas Procesionales Villa de Laujar
DESCRIPTION:El XVI Certamen de Marchas Procesionales de la Villa de Laujar es un evento tradicional que celebra la música y la cultura\, marcando el inicio de la Semana Santa en el municipio y que cumple 16 años. En esta edición\, participan prestigiosas bandas como la Banda de Guerra de la Brigada de la Legión «Rey Alfonso XIII»\, la Banda de Cornetas y Tambores «Madre Asunción» de Huércal Overa\, la Banda de Cornetas y Tambores «La Redención» de Benalmádena y la Banda Municipal de Laujar de Andarax\, anfitriona del certamen.
URL:https://andaraxdigital.es/evento/xvi-certamen-de-marchas-procesionales-villa-de-laujar/
LOCATION:Plaza de Toros Orgullo de la Alpujarra\, C. Canalejas\, Laujar de Andarax\, Almería\, España
CATEGORIES:Cultura
ATTACH;FMTTYPE=image/jpeg:https://andaraxdigital.es/wp-content/uploads/2025/03/484549466_986886346966060_530045815849457717_n-1.jpg
END:VEVENT
END:VCALENDAR