BEGIN:VCALENDAR
VERSION:2.0
PRODID:-//Andarax Digital - ECPv6.1.3//NONSGML v1.0//EN
CALSCALE:GREGORIAN
METHOD:PUBLISH
X-WR-CALNAME:Andarax Digital
X-ORIGINAL-URL:https://andaraxdigital.es
X-WR-CALDESC:Eventos para Andarax Digital
REFRESH-INTERVAL;VALUE=DURATION:PT1H
X-Robots-Tag:noindex
X-PUBLISHED-TTL:PT1H
BEGIN:VTIMEZONE
TZID:Europe/Helsinki
BEGIN:DAYLIGHT
TZOFFSETFROM:+0200
TZOFFSETTO:+0300
TZNAME:EEST
DTSTART:20260329T010000
END:DAYLIGHT
BEGIN:STANDARD
TZOFFSETFROM:+0300
TZOFFSETTO:+0200
TZNAME:EET
DTSTART:20261025T010000
END:STANDARD
END:VTIMEZONE
BEGIN:VEVENT
DTSTART;TZID=Europe/Helsinki:20260116T190000
DTEND;TZID=Europe/Helsinki:20260116T190000
DTSTAMP:20260421T210331
CREATED:20260113T101846Z
LAST-MODIFIED:20260113T101847Z
UID:5346-1768590000-1768590000@andaraxdigital.es
SUMMARY:Barbas de San Antón en Alhama de Almería
DESCRIPTION:
URL:https://andaraxdigital.es/evento/barbas-de-san-anton-en-alhama-de-almeria/
LOCATION:Aparcamientos del barrio de Las Cruces\, Alhama de Almería\, Alhama de Almería
CATEGORIES:Eventos
END:VEVENT
END:VCALENDAR