BEGIN:VCALENDAR
VERSION:2.0
PRODID:-//Andarax Digital - ECPv6.1.3//NONSGML v1.0//EN
CALSCALE:GREGORIAN
METHOD:PUBLISH
X-ORIGINAL-URL:https://andaraxdigital.es
X-WR-CALDESC:Eventos para Andarax Digital
REFRESH-INTERVAL;VALUE=DURATION:PT1H
X-Robots-Tag:noindex
X-PUBLISHED-TTL:PT1H
BEGIN:VTIMEZONE
TZID:Europe/Helsinki
BEGIN:DAYLIGHT
TZOFFSETFROM:+0200
TZOFFSETTO:+0300
TZNAME:EEST
DTSTART:20250330T010000
END:DAYLIGHT
BEGIN:STANDARD
TZOFFSETFROM:+0300
TZOFFSETTO:+0200
TZNAME:EET
DTSTART:20251026T010000
END:STANDARD
END:VTIMEZONE
BEGIN:VEVENT
DTSTART;VALUE=DATE:20250525
DTEND;VALUE=DATE:20250526
DTSTAMP:20260419T191829
CREATED:20250515T172256Z
LAST-MODIFIED:20250515T172256Z
UID:5098-1748131200-1748217599@andaraxdigital.es
SUMMARY:Exposición fotográfica en Bentarique
DESCRIPTION:El municipio de Bentarique se prepara para acoger una emotiva y reveladora exposición fotográfica bajo el título: «Comunidad y memoria en blanco y negro. De los años 2008 al 2025»\, una obra de la reconocida fotógrafa Rosa Carvajal. \nEl evento tendrá lugar el próximo domingo 25 de mayo\, a partir de las 12:00 horas\, en la Plaza de la Constitución. La muestra forma parte del proyecto «Hablar Photo: la fotografía en los pueblos»\, una iniciativa que busca visibilizar la historia cotidiana de pequeñas comunidades rurales a través del arte visual. \nA lo largo de la exposición\, los asistentes podrán recorrer momentos clave de la vida en Bentarique durante los últimos 17 años\, plasmados en impactantes imágenes en blanco y negro que capturan no solo rostros y paisajes\, sino también emociones\, tradiciones y la evolución de un pueblo que ha sabido conservar su identidad.
URL:https://andaraxdigital.es/evento/exposicion-fotografica-en-bentarique/
LOCATION:Plaza de la Constitución\, Bentarique\, Bentarique\, España
CATEGORIES:Eventos
ATTACH;FMTTYPE=image/jpeg:https://andaraxdigital.es/wp-content/uploads/2025/05/495382200_1086915083480398_1593080215174257437_n-1-1.jpg
END:VEVENT
END:VCALENDAR