BEGIN:VCALENDAR
VERSION:2.0
PRODID:-//Andarax Digital - ECPv6.1.3//NONSGML v1.0//EN
CALSCALE:GREGORIAN
METHOD:PUBLISH
X-WR-CALNAME:Andarax Digital
X-ORIGINAL-URL:https://andaraxdigital.es
X-WR-CALDESC:Eventos para Andarax Digital
REFRESH-INTERVAL;VALUE=DURATION:PT1H
X-Robots-Tag:noindex
X-PUBLISHED-TTL:PT1H
BEGIN:VTIMEZONE
TZID:Europe/Helsinki
BEGIN:DAYLIGHT
TZOFFSETFROM:+0200
TZOFFSETTO:+0300
TZNAME:EEST
DTSTART:20250330T010000
END:DAYLIGHT
BEGIN:STANDARD
TZOFFSETFROM:+0300
TZOFFSETTO:+0200
TZNAME:EET
DTSTART:20251026T010000
END:STANDARD
END:VTIMEZONE
BEGIN:VEVENT
DTSTART;TZID=Europe/Helsinki:20250606T093000
DTEND;TZID=Europe/Helsinki:20250606T140000
DTSTAMP:20260421T135713
CREATED:20250526T074835Z
LAST-MODIFIED:20250526T074835Z
UID:5150-1749202200-1749218400@andaraxdigital.es
SUMMARY:Jornadas sobre “El Papel de la Mujer en el Desarrollo de los Pueblos” en Alhama
DESCRIPTION:El Ayuntamiento de Alhama de Almería organiza las Jornadas sobre “El Papel de la Mujer en el Desarrollo de los Pueblos”\, un evento dedicado a impulsar el papel de la mujer en el entorno rural. Esta cita\, abierta a todas las mujeres de la comarca\, busca fomentar el emprendimiento femenino\, informar sobre ayudas y subvenciones disponibles\, y visibilizar la importancia de la titularidad compartida en explotaciones agrarias. \nLa jornada tendrá una duración de cuatro horas y contará con la participación de ponentes expertos en desarrollo rural\, igualdad y economía. Además\, se abordará el acceso de las mujeres a órganos de decisión en cooperativas y organizaciones agrarias. Como cierre\, se ofrecerá una comida gratuita en los Salones DraKo para todas las asistentes. Las inscripciones pueden realizarse en el Ayuntamiento de Alhama de Almería.
URL:https://andaraxdigital.es/evento/jornadas-sobre-el-papel-de-la-mujer-en-el-desarrollo-de-los-pueblos-en-alhama/
LOCATION:Salón Social Alhama de Almería\, Av. Pablo Picasso 11\, Alhama de Almería\, Almería\, España
CATEGORIES:Empleo
ATTACH;FMTTYPE=image/jpeg:https://andaraxdigital.es/wp-content/uploads/2025/05/497895444_1077008581139454_5528398228023398255_n-1.jpg
END:VEVENT
END:VCALENDAR