BEGIN:VCALENDAR
VERSION:2.0
PRODID:-//Andarax Digital - ECPv6.1.3//NONSGML v1.0//EN
CALSCALE:GREGORIAN
METHOD:PUBLISH
X-ORIGINAL-URL:https://andaraxdigital.es
X-WR-CALDESC:Eventos para Andarax Digital
REFRESH-INTERVAL;VALUE=DURATION:PT1H
X-Robots-Tag:noindex
X-PUBLISHED-TTL:PT1H
BEGIN:VTIMEZONE
TZID:Europe/Helsinki
BEGIN:DAYLIGHT
TZOFFSETFROM:+0200
TZOFFSETTO:+0300
TZNAME:EEST
DTSTART:20250330T010000
END:DAYLIGHT
BEGIN:STANDARD
TZOFFSETFROM:+0300
TZOFFSETTO:+0200
TZNAME:EET
DTSTART:20251026T010000
END:STANDARD
END:VTIMEZONE
BEGIN:VEVENT
DTSTART;TZID=Europe/Helsinki:20250424T200000
DTEND;TZID=Europe/Helsinki:20250424T200000
DTSTAMP:20260421T021606
CREATED:20250404T184047Z
LAST-MODIFIED:20250404T184047Z
UID:4527-1745524800-1745524800@andaraxdigital.es
SUMMARY:Charla sobre menopausia y bienestar en Pechina
DESCRIPTION:La charla sobre Educación Sanitaria en la Menopausia es una oportunidad para conocer más sobre esta etapa natural de la vida y cómo afrontarla de forma saludable y positiva. Se tratarán temas clave como la salud ósea\, la alimentación adecuada y el bienestar emocional\, brindando herramientas prácticas para mejorar la calidad de vida durante esta fase. \nEl evento se realizará el próximo 24 de abril a las 20:00h en el salón de actos del Centro de Día de Pechina. Será un espacio para resolver dudas\, compartir experiencias y aprender a cuidarse mejor.
URL:https://andaraxdigital.es/evento/charla-sobre-menopausia-y-bienestar-en-pechina/
LOCATION:Centro de Día de Pechina\, Pechina
CATEGORIES:Eventos
ATTACH;FMTTYPE=image/jpeg:https://andaraxdigital.es/wp-content/uploads/2025/04/488886340_1100003575504488_1325913477711092070_n-1.jpg
END:VEVENT
END:VCALENDAR