BEGIN:VCALENDAR
VERSION:2.0
PRODID:-//Andarax Digital - ECPv6.1.3//NONSGML v1.0//EN
CALSCALE:GREGORIAN
METHOD:PUBLISH
X-ORIGINAL-URL:https://andaraxdigital.es
X-WR-CALDESC:Eventos para Andarax Digital
REFRESH-INTERVAL;VALUE=DURATION:PT1H
X-Robots-Tag:noindex
X-PUBLISHED-TTL:PT1H
BEGIN:VTIMEZONE
TZID:Europe/Helsinki
BEGIN:DAYLIGHT
TZOFFSETFROM:+0200
TZOFFSETTO:+0300
TZNAME:EEST
DTSTART:20250330T010000
END:DAYLIGHT
BEGIN:STANDARD
TZOFFSETFROM:+0300
TZOFFSETTO:+0200
TZNAME:EET
DTSTART:20251026T010000
END:STANDARD
END:VTIMEZONE
BEGIN:VEVENT
DTSTART;VALUE=DATE:20250426
DTEND;VALUE=DATE:20250427
DTSTAMP:20260421T021708
CREATED:20250415T164759Z
LAST-MODIFIED:20250415T164759Z
UID:4656-1745625600-1745711999@andaraxdigital.es
SUMMARY:Bayyana Rock Festival 2025
DESCRIPTION:El próximo sábado 26 de abril\, el Parque Bayyana se transforma en el escenario perfecto para una jornada llena de música\, energía y diversión para todas las edades. Llega el BAYYANA ROCK FESTIVAL 2025\, un evento único que reúne a grandes nombres del panorama musical con una mezcla explosiva de rock\, fusión\, y electrónica. \nCon acceso gratuito\, el BAYYANA ROCK FESTIVAL es una cita imperdible para disfrutar de la música en directo\, compartir con amigos y familia\, y sumergirse en una experiencia al aire libre llena de buen rollo.
URL:https://andaraxdigital.es/evento/bayyana-rock-festival-2025/
LOCATION:Parque Bayyana Pechina\, Calle Ramón y Cajal\, 41\, Pechina\, Almería\, España
CATEGORIES:Eventos
ATTACH;FMTTYPE=image/jpeg:https://andaraxdigital.es/wp-content/uploads/2025/04/490352677_1111272297710949_560280686747872237_n-1.jpg
END:VEVENT
END:VCALENDAR