BEGIN:VCALENDAR
VERSION:2.0
PRODID:-//Andarax Digital - ECPv6.1.3//NONSGML v1.0//EN
CALSCALE:GREGORIAN
METHOD:PUBLISH
X-ORIGINAL-URL:https://andaraxdigital.es
X-WR-CALDESC:Eventos para Andarax Digital
REFRESH-INTERVAL;VALUE=DURATION:PT1H
X-Robots-Tag:noindex
X-PUBLISHED-TTL:PT1H
BEGIN:VTIMEZONE
TZID:Europe/Helsinki
BEGIN:DAYLIGHT
TZOFFSETFROM:+0200
TZOFFSETTO:+0300
TZNAME:EEST
DTSTART:20250330T010000
END:DAYLIGHT
BEGIN:STANDARD
TZOFFSETFROM:+0300
TZOFFSETTO:+0200
TZNAME:EET
DTSTART:20251026T010000
END:STANDARD
END:VTIMEZONE
BEGIN:VEVENT
DTSTART;TZID=Europe/Helsinki:20250525T080000
DTEND;TZID=Europe/Helsinki:20250525T170000
DTSTAMP:20260419T171904
CREATED:20250515T171728Z
LAST-MODIFIED:20250515T171741Z
UID:5094-1748160000-1748192400@andaraxdigital.es
SUMMARY:Traslado de San Marcos de Ohanes a Tices
DESCRIPTION:El próximo domingo 25 de mayo a las 11:00 horas\, el pueblo de Ohanes vivirá uno de los momentos más esperados por sus vecinos: el solemne traslado de San Marcos al Santuario de Tices. \nEste evento marca el comienzo simbólico de la cuenta atrás hacia la época más especial para los ohanenses\, la celebración del día de la virgen en la madrugada del 14 de agosto donde cada año reúnen a cientos de devotos y visitantes en un ambiente único de fe y celebración.
URL:https://andaraxdigital.es/evento/traslado-de-san-marcos-de-ohanes-a-tices/
LOCATION:Ohanes\, Almería\, España
CATEGORIES:Fiestas
ATTACH;FMTTYPE=image/jpeg:https://andaraxdigital.es/wp-content/uploads/2025/05/497955624_18310921018243024_7791479963255382464_n-1.jpg
END:VEVENT
END:VCALENDAR